BEGIN:VCALENDAR
VERSION:2.0
PRODID:-//İnşaat Mühendisliği - ECPv4.9.9.1//NONSGML v1.0//EN
CALSCALE:GREGORIAN
METHOD:PUBLISH
X-WR-CALNAME:İnşaat Mühendisliği
X-ORIGINAL-URL:https://insmuh.deu.edu.tr
X-WR-CALDESC:Events for İnşaat Mühendisliği
BEGIN:VTIMEZONE
TZID:Europe/Istanbul
BEGIN:STANDARD
TZOFFSETFROM:+0300
TZOFFSETTO:+0300
TZNAME:+03
DTSTART:20230101T000000
END:STANDARD
END:VTIMEZONE
BEGIN:VEVENT
DTSTART;TZID=Europe/Istanbul:20231130T154500
DTEND;TZID=Europe/Istanbul:20231201T204000
DTSTAMP:20260423T064435
CREATED:20231205T090046Z
LAST-MODIFIED:20231205T090046Z
UID:3152-1701359100-1701463200@insmuh.deu.edu.tr
SUMMARY:İNŞAAT MÜHENDİSLİĞİNDE KAMU SEKTÖRÜNDE KARİYER
DESCRIPTION: \n
URL:https://insmuh.deu.edu.tr/etkinlik/insaat-muhendisliginde-kamu-sektorunde-kariyer/
LOCATION:çevrimiçi
END:VEVENT
END:VCALENDAR