BEGIN:VCALENDAR
VERSION:2.0
PRODID:-//İnşaat Mühendisliği - ECPv4.9.9.1//NONSGML v1.0//EN
CALSCALE:GREGORIAN
METHOD:PUBLISH
X-WR-CALNAME:İnşaat Mühendisliği
X-ORIGINAL-URL:https://insmuh.deu.edu.tr
X-WR-CALDESC:Events for İnşaat Mühendisliği
BEGIN:VTIMEZONE
TZID:Europe/Istanbul
BEGIN:STANDARD
TZOFFSETFROM:+0300
TZOFFSETTO:+0300
TZNAME:+03
DTSTART:20230101T000000
END:STANDARD
END:VTIMEZONE
BEGIN:VEVENT
DTSTART;TZID=Europe/Istanbul:20231221T154500
DTEND;TZID=Europe/Istanbul:20231222T204000
DTSTAMP:20260423T065503
CREATED:20231205T085855Z
LAST-MODIFIED:20231205T085855Z
UID:3149-1703173500-1703277600@insmuh.deu.edu.tr
SUMMARY:İNŞAAT MÜHENDİSLİĞİNDE ÖZEL SEKTÖRDE KARİYER
DESCRIPTION: \n
URL:https://insmuh.deu.edu.tr/etkinlik/insaat-muhendisliginde-ozel-sektorde-kariyer/
LOCATION:çevrimiçi
END:VEVENT
END:VCALENDAR