BEGIN:VCALENDAR
VERSION:2.0
PRODID:-//İnşaat Mühendisliği - ECPv4.9.9.1//NONSGML v1.0//EN
CALSCALE:GREGORIAN
METHOD:PUBLISH
X-WR-CALNAME:İnşaat Mühendisliği
X-ORIGINAL-URL:https://insmuh.deu.edu.tr
X-WR-CALDESC:Events for İnşaat Mühendisliği
BEGIN:VTIMEZONE
TZID:Europe/Istanbul
BEGIN:STANDARD
TZOFFSETFROM:+0300
TZOFFSETTO:+0300
TZNAME:+03
DTSTART:20240101T000000
END:STANDARD
END:VTIMEZONE
BEGIN:VEVENT
DTSTART;TZID=Europe/Istanbul:20240320T110000
DTEND;TZID=Europe/Istanbul:20240320T170000
DTSTAMP:20260423T015025
CREATED:20240312T070832Z
LAST-MODIFIED:20240312T070832Z
UID:3374-1710932400-1710954000@insmuh.deu.edu.tr
SUMMARY:KARİYER TAVSİYELERİ
DESCRIPTION: \n
URL:https://insmuh.deu.edu.tr/etkinlik/kariyer-tavsiyeleri/
END:VEVENT
BEGIN:VEVENT
DTSTART;TZID=Europe/Istanbul:20240320T130000
DTEND;TZID=Europe/Istanbul:20240320T170000
DTSTAMP:20260423T015025
CREATED:20240312T070737Z
LAST-MODIFIED:20240312T101907Z
UID:3372-1710939600-1710954000@insmuh.deu.edu.tr
SUMMARY:MEZUNLAR İÇİN HAYAT BOYU ÖĞRENME WEBİNARI
DESCRIPTION: \n
URL:https://insmuh.deu.edu.tr/etkinlik/mezunlar-icin-hayat-boyu-ogrenme-webinari/
END:VEVENT
END:VCALENDAR