BEGIN:VCALENDAR
VERSION:2.0
PRODID:-//İnşaat Mühendisliği - ECPv4.9.9.1//NONSGML v1.0//EN
CALSCALE:GREGORIAN
METHOD:PUBLISH
X-WR-CALNAME:İnşaat Mühendisliği
X-ORIGINAL-URL:https://insmuh.deu.edu.tr
X-WR-CALDESC:Events for İnşaat Mühendisliği
BEGIN:VTIMEZONE
TZID:Europe/Istanbul
BEGIN:STANDARD
TZOFFSETFROM:+0300
TZOFFSETTO:+0300
TZNAME:+03
DTSTART:20250101T000000
END:STANDARD
END:VTIMEZONE
BEGIN:VEVENT
DTSTART;TZID=Europe/Istanbul:20250520T100000
DTEND;TZID=Europe/Istanbul:20250520T170000
DTSTAMP:20260422T031631
CREATED:20250516T092840Z
LAST-MODIFIED:20250516T092840Z
UID:4205-1747735200-1747760400@insmuh.deu.edu.tr
SUMMARY:BUCA EĞİTİM FAKÜLTESİ 5. KARİYER GÜNÜ
DESCRIPTION:📢👩‍🏫👨‍🏫🏫📐🌍#DEUKariyerzirvesi Buca Eğitim Fakültesi 5. Kariyer Günü!🗓️20.05.2025🕙 10:00 – 17:00🚩Stantlar: Buca Eğitim Yerleşkesi Bahçesi 🎙️ Seminerler: Reşat P. Konf. Sal.🗣️Mülakatlar: İngilizce BinasıDetaylar: 👉🔗https://kariyer.deu.edu.tr/tr/buca-egitim-fakultesi-5-kariyer-gunu/ \nBUCA EĞİTİM FAKÜLTESİ 5. KARİYER GÜNÜ \n \n
URL:https://insmuh.deu.edu.tr/etkinlik/buca-egitim-fakultesi-5-kariyer-gunu/
END:VEVENT
END:VCALENDAR