BEGIN:VCALENDAR
VERSION:2.0
PRODID:-//İnşaat Mühendisliği - ECPv4.9.9.1//NONSGML v1.0//EN
CALSCALE:GREGORIAN
METHOD:PUBLISH
X-WR-CALNAME:İnşaat Mühendisliği
X-ORIGINAL-URL:https://insmuh.deu.edu.tr
X-WR-CALDESC:Events for İnşaat Mühendisliği
BEGIN:VTIMEZONE
TZID:Europe/Istanbul
BEGIN:STANDARD
TZOFFSETFROM:+0300
TZOFFSETTO:+0300
TZNAME:+03
DTSTART:20250101T000000
END:STANDARD
END:VTIMEZONE
BEGIN:VEVENT
DTSTART;TZID=Europe/Istanbul:20251127T130000
DTEND;TZID=Europe/Istanbul:20251127T170000
DTSTAMP:20260423T132931
CREATED:20251126T114819Z
LAST-MODIFIED:20251126T114819Z
UID:4586-1764248400-1764262800@insmuh.deu.edu.tr
SUMMARY:İnşaat Mühendisliğinde Kamu Kuruluşlarında Kariyer
DESCRIPTION: \n
URL:https://insmuh.deu.edu.tr/etkinlik/insaat-muhendisliginde-kamu-kuruluslarinda-kariyer/
LOCATION:çevrimiçi
CATEGORIES:Etkinlik
END:VEVENT
END:VCALENDAR