BEGIN:VCALENDAR
VERSION:2.0
PRODID:-//İnşaat Mühendisliği - ECPv4.9.9.1//NONSGML v1.0//EN
CALSCALE:GREGORIAN
METHOD:PUBLISH
X-WR-CALNAME:İnşaat Mühendisliği
X-ORIGINAL-URL:https://insmuh.deu.edu.tr
X-WR-CALDESC:Events for İnşaat Mühendisliği
BEGIN:VTIMEZONE
TZID:Europe/Istanbul
BEGIN:STANDARD
TZOFFSETFROM:+0300
TZOFFSETTO:+0300
TZNAME:+03
DTSTART:20250101T000000
END:STANDARD
END:VTIMEZONE
BEGIN:VEVENT
DTSTART;TZID=Europe/Istanbul:20251203T103000
DTEND;TZID=Europe/Istanbul:20251203T120000
DTSTAMP:20260423T120456
CREATED:20251126T115407Z
LAST-MODIFIED:20251126T121430Z
UID:4590-1764757800-1764763200@insmuh.deu.edu.tr
SUMMARY:İnşaat Mühendisliğinde Özel Sektörde Kariyer
DESCRIPTION: \n
URL:https://insmuh.deu.edu.tr/etkinlik/insaat-muhendisliginde-ozel-sektorde-kariyer-2/
LOCATION:DEÜ İnşaat Mühendisliği Bölümü B203
CATEGORIES:Etkinlik
END:VEVENT
END:VCALENDAR